BEGIN:VCALENDAR
VERSION:2.0
PRODID:-//DJK SSV Innernzell - ECPv6.15.17//NONSGML v1.0//EN
CALSCALE:GREGORIAN
METHOD:PUBLISH
X-WR-CALNAME:DJK SSV Innernzell
X-ORIGINAL-URL:https://djk-ssv-innernzell.de
X-WR-CALDESC:Veranstaltungen für DJK SSV Innernzell
REFRESH-INTERVAL;VALUE=DURATION:PT1H
X-Robots-Tag:noindex
X-PUBLISHED-TTL:PT1H
BEGIN:VTIMEZONE
TZID:Europe/Berlin
BEGIN:DAYLIGHT
TZOFFSETFROM:+0100
TZOFFSETTO:+0200
TZNAME:CEST
DTSTART:20240331T010000
END:DAYLIGHT
BEGIN:STANDARD
TZOFFSETFROM:+0200
TZOFFSETTO:+0100
TZNAME:CET
DTSTART:20241027T010000
END:STANDARD
BEGIN:DAYLIGHT
TZOFFSETFROM:+0100
TZOFFSETTO:+0200
TZNAME:CEST
DTSTART:20250330T010000
END:DAYLIGHT
BEGIN:STANDARD
TZOFFSETFROM:+0200
TZOFFSETTO:+0100
TZNAME:CET
DTSTART:20251026T010000
END:STANDARD
BEGIN:DAYLIGHT
TZOFFSETFROM:+0100
TZOFFSETTO:+0200
TZNAME:CEST
DTSTART:20260329T010000
END:DAYLIGHT
BEGIN:STANDARD
TZOFFSETFROM:+0200
TZOFFSETTO:+0100
TZNAME:CET
DTSTART:20261025T010000
END:STANDARD
END:VTIMEZONE
BEGIN:VEVENT
DTSTART;TZID=Europe/Berlin:20250808T000000
DTEND;TZID=Europe/Berlin:20250810T235959
DTSTAMP:20260423T072418
CREATED:20241011T204605Z
LAST-MODIFIED:20250715T151443Z
UID:44-1754611200-1754870399@djk-ssv-innernzell.de
SUMMARY:Volksfest 2025
DESCRIPTION:
URL:https://djk-ssv-innernzell.de/event/volksfest-2025/
END:VEVENT
END:VCALENDAR