BEGIN:VCALENDAR
VERSION:2.0
PRODID:-//DJK SSV Innernzell - ECPv6.15.17//NONSGML v1.0//EN
CALSCALE:GREGORIAN
METHOD:PUBLISH
X-ORIGINAL-URL:https://djk-ssv-innernzell.de
X-WR-CALDESC:Veranstaltungen für DJK SSV Innernzell
REFRESH-INTERVAL;VALUE=DURATION:PT1H
X-Robots-Tag:noindex
X-PUBLISHED-TTL:PT1H
BEGIN:VTIMEZONE
TZID:Europe/Berlin
BEGIN:DAYLIGHT
TZOFFSETFROM:+0100
TZOFFSETTO:+0200
TZNAME:CEST
DTSTART:20250330T010000
END:DAYLIGHT
BEGIN:STANDARD
TZOFFSETFROM:+0200
TZOFFSETTO:+0100
TZNAME:CET
DTSTART:20251026T010000
END:STANDARD
BEGIN:DAYLIGHT
TZOFFSETFROM:+0100
TZOFFSETTO:+0200
TZNAME:CEST
DTSTART:20260329T010000
END:DAYLIGHT
BEGIN:STANDARD
TZOFFSETFROM:+0200
TZOFFSETTO:+0100
TZNAME:CET
DTSTART:20261025T010000
END:STANDARD
BEGIN:DAYLIGHT
TZOFFSETFROM:+0100
TZOFFSETTO:+0200
TZNAME:CEST
DTSTART:20270328T010000
END:DAYLIGHT
BEGIN:STANDARD
TZOFFSETFROM:+0200
TZOFFSETTO:+0100
TZNAME:CET
DTSTART:20271031T010000
END:STANDARD
END:VTIMEZONE
BEGIN:VEVENT
DTSTART;TZID=Europe/Berlin:20260214T130000
DTEND;TZID=Europe/Berlin:20260215T010000
DTSTAMP:20260422T213857
CREATED:20260125T193113Z
LAST-MODIFIED:20260125T193113Z
UID:1281-1771074000-1771117200@djk-ssv-innernzell.de
SUMMARY:Innernzeller Faschingszug
DESCRIPTION:
URL:https://djk-ssv-innernzell.de/event/innernzeller-faschingszug/
LOCATION:An der Linde\, Kirchpl. 2\, Innernzell\, Bayern\, 94548\, Germany
END:VEVENT
END:VCALENDAR